BEGIN:VCALENDAR
VERSION:2.0
PRODID:-//Mulconry&#039;s Irish Pub - ECPv6.15.20//NONSGML v1.0//EN
CALSCALE:GREGORIAN
METHOD:PUBLISH
X-WR-CALNAME:Mulconry&#039;s Irish Pub
X-ORIGINAL-URL:https://mulconrys.com
X-WR-CALDESC:Events for Mulconry&#039;s Irish Pub
REFRESH-INTERVAL;VALUE=DURATION:PT1H
X-Robots-Tag:noindex
X-PUBLISHED-TTL:PT1H
BEGIN:VTIMEZONE
TZID:UTC
BEGIN:STANDARD
TZOFFSETFROM:+0000
TZOFFSETTO:+0000
TZNAME:UTC
DTSTART:20250101T000000
END:STANDARD
END:VTIMEZONE
BEGIN:VEVENT
DTSTART;TZID=UTC:20260418T200000
DTEND;TZID=UTC:20260418T230000
DTSTAMP:20260422T084154
CREATED:20251204T160955Z
LAST-MODIFIED:20260203T161133Z
UID:10000651-1776542400-1776553200@mulconrys.com
SUMMARY:Happy Accident
DESCRIPTION:
URL:https://mulconrys.com/event/happy-accident-14/
LOCATION:NY
CATEGORIES:Fairport Events
ATTACH;FMTTYPE=image/jpeg:https://mulconrys.com/wp-content/uploads/2025/01/HappyAccident_01.jpg
END:VEVENT
END:VCALENDAR