BEGIN:VCALENDAR
VERSION:2.0
PRODID:-//Mulconry&#039;s Irish Pub - ECPv6.15.20//NONSGML v1.0//EN
CALSCALE:GREGORIAN
METHOD:PUBLISH
X-ORIGINAL-URL:https://mulconrys.com
X-WR-CALDESC:Events for Mulconry&#039;s Irish Pub
REFRESH-INTERVAL;VALUE=DURATION:PT1H
X-Robots-Tag:noindex
X-PUBLISHED-TTL:PT1H
BEGIN:VTIMEZONE
TZID:UTC
BEGIN:STANDARD
TZOFFSETFROM:+0000
TZOFFSETTO:+0000
TZNAME:UTC
DTSTART:20250101T000000
END:STANDARD
END:VTIMEZONE
BEGIN:VEVENT
DTSTART;TZID=UTC:20260205T200000
DTEND;TZID=UTC:20260205T230000
DTSTAMP:20260420T114913
CREATED:20251106T213713Z
LAST-MODIFIED:20260203T161439Z
UID:10000633-1770321600-1770332400@mulconrys.com
SUMMARY:Marty Roberts
DESCRIPTION:
URL:https://mulconrys.com/event/marty-roberts-9/2026-02-05/
LOCATION:NY
CATEGORIES:Fairport Events
END:VEVENT
BEGIN:VEVENT
DTSTART;TZID=UTC:20260206T200000
DTEND;TZID=UTC:20260206T230000
DTSTAMP:20260420T114913
CREATED:20251205T191031Z
LAST-MODIFIED:20260203T161415Z
UID:10000662-1770408000-1770418800@mulconrys.com
SUMMARY:Jumbo Shrimp
DESCRIPTION:
URL:https://mulconrys.com/event/jumbo-shrimp-8/
LOCATION:NY
CATEGORIES:Fairport Events
ATTACH;FMTTYPE=image/png:https://mulconrys.com/wp-content/uploads/2024/03/Screen-Shot-2024-03-07-at-11.07.49-AM.png
END:VEVENT
BEGIN:VEVENT
DTSTART;TZID=UTC:20260207T200000
DTEND;TZID=UTC:20260207T230000
DTSTAMP:20260420T114913
CREATED:20251003T181934Z
LAST-MODIFIED:20260203T161407Z
UID:10000602-1770494400-1770505200@mulconrys.com
SUMMARY:Sam Nitsch
DESCRIPTION:SAM NITSCH IS A SONGWRITER AND PERFORMER SPECIALIZING IN THE FUSION OF DIVERSE MUSICAL STYLES AND TECHNIQUES. AFTER BEGINNING HIS CAREER AS A CLASSICAL VIOLINIST\, NITSCH DEVELOPED A DISTINCT VOICE THROUGH THE EXPLORATION AND INCLUSION OF MULTIPLE INSTRUMENTS AND TECHNOLOGY INTO HIS MUSIC. \nEMERGING FROM THE ROCHESTER MUSIC SCENE IN 2015\, NITSCH HAS PERFORMED AT OVER 100 OF VENUES THROUGHOUT THE NORTHEAST. IN CONCERT\, NITSCH LIVE LOOPS VIOLIN\, BASS\, DRUMS\, VOCALS\, AND ELECTRIC AND ACOUSTIC UKULELES TO COVER AN ECLECTIC LIBRARY FROM DECADES PAST. \nADDITIONALLY\, NITSCH IS AN ACCOMPLISHED ARRANGER AND SESSION MUSICIAN WHO HAS BEEN FEATURED ON SEVERAL ARTISTS’ PERFORMANCES AND RECORDINGS\, MOST NOTABLY SINGING BACKGROUND VOCALS FOR 2016’S “JOSH GROBAN ON STAGE” TOUR AND BEING CONTRACTED TO PRODUCE THE 2022 “HYPE SONG” FOR THE CONNECTICUT SUN WNBA TEAM. \nRECENTLY BEING COMMISSIONED BY HIS ALMA MATER TO COMPOSE AN ORIGINAL WORK FOR STRING ORCHESTRA\, NITSCH HAS ALSO COLLABORATED WITH LOCAL HIGH SCHOOLS GIVING MASTERCLASSES\, PERFORMING WITH THEIR ENSEMBLES\, AND PRODUCING VIRTUAL STUDENT CONCERTS DURING THE PANDEMIC.
URL:https://mulconrys.com/event/sam-nitsch-26/
LOCATION:NY
CATEGORIES:Fairport Events
ATTACH;FMTTYPE=image/png:https://mulconrys.com/wp-content/uploads/2023/12/SamN.png
END:VEVENT
BEGIN:VEVENT
DTSTART;TZID=UTC:20260213T200000
DTEND;TZID=UTC:20260213T230000
DTSTAMP:20260420T114913
CREATED:20250926T172932Z
LAST-MODIFIED:20260203T161357Z
UID:10000597-1771012800-1771023600@mulconrys.com
SUMMARY:Banned from the Tavern
DESCRIPTION:We are “Banned From the Tavern” – Playing your favorite rock\, blues & soul songs\, from past to present! \n 
URL:https://mulconrys.com/event/banned-from-the-tavern-10/
LOCATION:NY
CATEGORIES:Fairport Events
ATTACH;FMTTYPE=image/webp:https://mulconrys.com/wp-content/uploads/2024/01/BannedFromTheTavern.webp
END:VEVENT
BEGIN:VEVENT
DTSTART;TZID=UTC:20260220T200000
DTEND;TZID=UTC:20260220T230000
DTSTAMP:20260420T114913
CREATED:20260218T160658Z
LAST-MODIFIED:20260218T160658Z
UID:10000951-1771617600-1771628400@mulconrys.com
SUMMARY:Happy Accident
DESCRIPTION:
URL:https://mulconrys.com/event/happy-accident-20/
LOCATION:Fairport Location\, 17 Liftbridge Ln E\, Fairport\, NY\, 14450\, United States
CATEGORIES:Fairport Events
ATTACH;FMTTYPE=image/jpeg:https://mulconrys.com/wp-content/uploads/2025/01/HappyAccident_01.jpg
END:VEVENT
BEGIN:VEVENT
DTSTART;TZID=UTC:20260221T200000
DTEND;TZID=UTC:20260221T230000
DTSTAMP:20260420T114913
CREATED:20251204T164448Z
LAST-MODIFIED:20260203T161350Z
UID:10000658-1771704000-1771714800@mulconrys.com
SUMMARY:Davey Allen
DESCRIPTION:
URL:https://mulconrys.com/event/davey-allen-12/
LOCATION:NY
CATEGORIES:Fairport Events
ATTACH;FMTTYPE=image/jpeg:https://mulconrys.com/wp-content/uploads/2025/01/DSC6493-2.jpg
END:VEVENT
BEGIN:VEVENT
DTSTART;TZID=UTC:20260227T200000
DTEND;TZID=UTC:20260227T230000
DTSTAMP:20260420T114913
CREATED:20251003T183346Z
LAST-MODIFIED:20260203T161340Z
UID:10000613-1772222400-1772233200@mulconrys.com
SUMMARY:B42K
DESCRIPTION:
URL:https://mulconrys.com/event/b42k-11/
LOCATION:NY
CATEGORIES:Fairport Events
ATTACH;FMTTYPE=image/png:https://mulconrys.com/wp-content/uploads/2024/03/Screen-Shot-2024-03-07-at-11.08.56-AM.png
END:VEVENT
BEGIN:VEVENT
DTSTART;TZID=UTC:20260228T203000
DTEND;TZID=UTC:20260228T233000
DTSTAMP:20260420T114913
CREATED:20251103T134713Z
LAST-MODIFIED:20260203T161322Z
UID:10000627-1772310600-1772321400@mulconrys.com
SUMMARY:The Living Room Session
DESCRIPTION:
URL:https://mulconrys.com/event/the-living-room-session-9/
LOCATION:NY
CATEGORIES:Fairport Events
ATTACH;FMTTYPE=image/jpeg:https://mulconrys.com/wp-content/uploads/2024/01/TheLiving-Room-Session.jpeg
END:VEVENT
END:VCALENDAR