BEGIN:VCALENDAR
VERSION:2.0
PRODID:-//Mulconry&#039;s Irish Pub - ECPv6.15.20//NONSGML v1.0//EN
CALSCALE:GREGORIAN
METHOD:PUBLISH
X-ORIGINAL-URL:https://mulconrys.com
X-WR-CALDESC:Events for Mulconry&#039;s Irish Pub
REFRESH-INTERVAL;VALUE=DURATION:PT1H
X-Robots-Tag:noindex
X-PUBLISHED-TTL:PT1H
BEGIN:VTIMEZONE
TZID:UTC
BEGIN:STANDARD
TZOFFSETFROM:+0000
TZOFFSETTO:+0000
TZNAME:UTC
DTSTART:20250101T000000
END:STANDARD
END:VTIMEZONE
BEGIN:VEVENT
DTSTART;TZID=UTC:20260305T200000
DTEND;TZID=UTC:20260305T230000
DTSTAMP:20260420T101311
CREATED:20251107T212956Z
LAST-MODIFIED:20260203T161311Z
UID:10000634-1772740800-1772751600@mulconrys.com
SUMMARY:Marty Roberts
DESCRIPTION:
URL:https://mulconrys.com/event/marty-roberts-10/2026-03-05/
LOCATION:NY
CATEGORIES:Fairport Events
END:VEVENT
BEGIN:VEVENT
DTSTART;TZID=UTC:20260306T200000
DTEND;TZID=UTC:20260306T230000
DTSTAMP:20260420T101311
CREATED:20251008T162656Z
LAST-MODIFIED:20260203T161303Z
UID:10000624-1772827200-1772838000@mulconrys.com
SUMMARY:Hailey Live Music
DESCRIPTION:
URL:https://mulconrys.com/event/hailey-live-music/
LOCATION:NY
CATEGORIES:Fairport Events
END:VEVENT
BEGIN:VEVENT
DTSTART;TZID=UTC:20260313T193000
DTEND;TZID=UTC:20260313T213000
DTSTAMP:20260420T101311
CREATED:20260128T150736Z
LAST-MODIFIED:20260203T161256Z
UID:10000667-1773430200-1773437400@mulconrys.com
SUMMARY:Guinness Glass Engraving
DESCRIPTION:
URL:https://mulconrys.com/event/guinness-glass-engraving/
LOCATION:Fairport Location\, 17 Liftbridge Ln E\, Fairport\, NY\, 14450\, United States
CATEGORIES:Fairport Events
END:VEVENT
BEGIN:VEVENT
DTSTART;TZID=UTC:20260313T200000
DTEND;TZID=UTC:20260313T230000
DTSTAMP:20260420T101311
CREATED:20250926T172953Z
LAST-MODIFIED:20260203T161247Z
UID:10000598-1773432000-1773442800@mulconrys.com
SUMMARY:Banned from the Tavern
DESCRIPTION:We are “Banned From the Tavern” – Playing your favorite rock\, blues & soul songs\, from past to present! \n 
URL:https://mulconrys.com/event/banned-from-the-tavern-11/
LOCATION:NY
CATEGORIES:Fairport Events
ATTACH;FMTTYPE=image/webp:https://mulconrys.com/wp-content/uploads/2024/01/BannedFromTheTavern.webp
END:VEVENT
BEGIN:VEVENT
DTSTART;TZID=UTC:20260314T140000
DTEND;TZID=UTC:20260314T170000
DTSTAMP:20260420T101311
CREATED:20260224T150420Z
LAST-MODIFIED:20260224T150420Z
UID:10000957-1773496800-1773507600@mulconrys.com
SUMMARY:The Galtee Mountain Boys
DESCRIPTION:The Galtee Mountain Boys are an Irish Band based in Rochester\, NY. \n 
URL:https://mulconrys.com/event/the-galtee-mountain-boys-2/
LOCATION:Fairport Location\, 17 Liftbridge Ln E\, Fairport\, NY\, 14450\, United States
CATEGORIES:Fairport Events
ATTACH;FMTTYPE=image/jpeg:https://mulconrys.com/wp-content/uploads/2024/01/he-Galtee-Mountain-Boys-are-an-Irish-Band-based-in-Rochester-NY.jpeg
END:VEVENT
BEGIN:VEVENT
DTSTART;TZID=UTC:20260314T200000
DTEND;TZID=UTC:20260314T230000
DTSTAMP:20260420T101311
CREATED:20251003T182100Z
LAST-MODIFIED:20260203T161242Z
UID:10000603-1773518400-1773529200@mulconrys.com
SUMMARY:Sam Nitsch
DESCRIPTION:SAM NITSCH IS A SONGWRITER AND PERFORMER SPECIALIZING IN THE FUSION OF DIVERSE MUSICAL STYLES AND TECHNIQUES. AFTER BEGINNING HIS CAREER AS A CLASSICAL VIOLINIST\, NITSCH DEVELOPED A DISTINCT VOICE THROUGH THE EXPLORATION AND INCLUSION OF MULTIPLE INSTRUMENTS AND TECHNOLOGY INTO HIS MUSIC. \nEMERGING FROM THE ROCHESTER MUSIC SCENE IN 2015\, NITSCH HAS PERFORMED AT OVER 100 OF VENUES THROUGHOUT THE NORTHEAST. IN CONCERT\, NITSCH LIVE LOOPS VIOLIN\, BASS\, DRUMS\, VOCALS\, AND ELECTRIC AND ACOUSTIC UKULELES TO COVER AN ECLECTIC LIBRARY FROM DECADES PAST. \nADDITIONALLY\, NITSCH IS AN ACCOMPLISHED ARRANGER AND SESSION MUSICIAN WHO HAS BEEN FEATURED ON SEVERAL ARTISTS’ PERFORMANCES AND RECORDINGS\, MOST NOTABLY SINGING BACKGROUND VOCALS FOR 2016’S “JOSH GROBAN ON STAGE” TOUR AND BEING CONTRACTED TO PRODUCE THE 2022 “HYPE SONG” FOR THE CONNECTICUT SUN WNBA TEAM. \nRECENTLY BEING COMMISSIONED BY HIS ALMA MATER TO COMPOSE AN ORIGINAL WORK FOR STRING ORCHESTRA\, NITSCH HAS ALSO COLLABORATED WITH LOCAL HIGH SCHOOLS GIVING MASTERCLASSES\, PERFORMING WITH THEIR ENSEMBLES\, AND PRODUCING VIRTUAL STUDENT CONCERTS DURING THE PANDEMIC.
URL:https://mulconrys.com/event/sam-nitsch-27/
LOCATION:NY
CATEGORIES:Fairport Events
ATTACH;FMTTYPE=image/png:https://mulconrys.com/wp-content/uploads/2023/12/SamN.png
END:VEVENT
BEGIN:VEVENT
DTSTART;TZID=UTC:20260320T200000
DTEND;TZID=UTC:20260320T230000
DTSTAMP:20260420T101311
CREATED:20251204T164554Z
LAST-MODIFIED:20260203T161233Z
UID:10000659-1774036800-1774047600@mulconrys.com
SUMMARY:Davey Allen
DESCRIPTION:
URL:https://mulconrys.com/event/davey-allen-13/
LOCATION:NY
CATEGORIES:Fairport Events
ATTACH;FMTTYPE=image/jpeg:https://mulconrys.com/wp-content/uploads/2025/01/DSC6493-2.jpg
END:VEVENT
BEGIN:VEVENT
DTSTART;TZID=UTC:20260321T200000
DTEND;TZID=UTC:20260321T230000
DTSTAMP:20260420T101311
CREATED:20251003T183632Z
LAST-MODIFIED:20260203T161228Z
UID:10000614-1774123200-1774134000@mulconrys.com
SUMMARY:B42K
DESCRIPTION:
URL:https://mulconrys.com/event/b42k-12/
LOCATION:NY
CATEGORIES:Fairport Events
ATTACH;FMTTYPE=image/png:https://mulconrys.com/wp-content/uploads/2024/03/Screen-Shot-2024-03-07-at-11.08.56-AM.png
END:VEVENT
BEGIN:VEVENT
DTSTART;TZID=UTC:20260327T203000
DTEND;TZID=UTC:20260327T233000
DTSTAMP:20260420T101311
CREATED:20251103T134819Z
LAST-MODIFIED:20260323T152120Z
UID:10000628-1774643400-1774654200@mulconrys.com
SUMMARY:The Living Room Session
DESCRIPTION:
URL:https://mulconrys.com/event/the-living-room-session-11/
LOCATION:NY
CATEGORIES:Fairport Events
ATTACH;FMTTYPE=image/jpeg:https://mulconrys.com/wp-content/uploads/2024/01/TheLiving-Room-Session.jpeg
END:VEVENT
BEGIN:VEVENT
DTSTART;TZID=UTC:20260328T200000
DTEND;TZID=UTC:20260328T230000
DTSTAMP:20260420T101311
CREATED:20260325T122820Z
LAST-MODIFIED:20260325T122820Z
UID:10000962-1774728000-1774738800@mulconrys.com
SUMMARY:DJ Shaun
DESCRIPTION:
URL:https://mulconrys.com/event/dj-shaun-9/
LOCATION:Fairport Location\, 17 Liftbridge Ln E\, Fairport\, NY\, 14450\, United States
CATEGORIES:Fairport Events
END:VEVENT
END:VCALENDAR