BEGIN:VCALENDAR
VERSION:2.0
PRODID:-//Mulconry&#039;s Irish Pub - ECPv6.15.20//NONSGML v1.0//EN
CALSCALE:GREGORIAN
METHOD:PUBLISH
X-ORIGINAL-URL:https://mulconrys.com
X-WR-CALDESC:Events for Mulconry&#039;s Irish Pub
REFRESH-INTERVAL;VALUE=DURATION:PT1H
X-Robots-Tag:noindex
X-PUBLISHED-TTL:PT1H
BEGIN:VTIMEZONE
TZID:UTC
BEGIN:STANDARD
TZOFFSETFROM:+0000
TZOFFSETTO:+0000
TZNAME:UTC
DTSTART:20250101T000000
END:STANDARD
END:VTIMEZONE
BEGIN:VEVENT
DTSTART;TZID=UTC:20260328T200000
DTEND;TZID=UTC:20260328T230000
DTSTAMP:20260422T134920
CREATED:20260325T122820Z
LAST-MODIFIED:20260325T122820Z
UID:10000962-1774728000-1774738800@mulconrys.com
SUMMARY:DJ Shaun
DESCRIPTION:
URL:https://mulconrys.com/event/dj-shaun-9/
LOCATION:Fairport Location\, 17 Liftbridge Ln E\, Fairport\, NY\, 14450\, United States
CATEGORIES:Fairport Events
END:VEVENT
END:VCALENDAR