BEGIN:VCALENDAR
VERSION:2.0
PRODID:-//Mulconry&#039;s Irish Pub - ECPv6.15.20//NONSGML v1.0//EN
CALSCALE:GREGORIAN
METHOD:PUBLISH
X-ORIGINAL-URL:https://mulconrys.com
X-WR-CALDESC:Events for Mulconry&#039;s Irish Pub
REFRESH-INTERVAL;VALUE=DURATION:PT1H
X-Robots-Tag:noindex
X-PUBLISHED-TTL:PT1H
BEGIN:VTIMEZONE
TZID:UTC
BEGIN:STANDARD
TZOFFSETFROM:+0000
TZOFFSETTO:+0000
TZNAME:UTC
DTSTART:20250101T000000
END:STANDARD
END:VTIMEZONE
BEGIN:VEVENT
DTSTART;TZID=UTC:20260417T200000
DTEND;TZID=UTC:20260417T230000
DTSTAMP:20260420T085644
CREATED:20250926T173013Z
LAST-MODIFIED:20260203T161139Z
UID:10000599-1776456000-1776466800@mulconrys.com
SUMMARY:Banned from the Tavern
DESCRIPTION:We are “Banned From the Tavern” – Playing your favorite rock\, blues & soul songs\, from past to present! \n 
URL:https://mulconrys.com/event/banned-from-the-tavern-12/
LOCATION:NY
CATEGORIES:Fairport Events
ATTACH;FMTTYPE=image/webp:https://mulconrys.com/wp-content/uploads/2024/01/BannedFromTheTavern.webp
END:VEVENT
END:VCALENDAR