BEGIN:VCALENDAR
VERSION:2.0
PRODID:-//Mulconry&#039;s Irish Pub - ECPv6.15.20//NONSGML v1.0//EN
CALSCALE:GREGORIAN
METHOD:PUBLISH
X-ORIGINAL-URL:https://mulconrys.com
X-WR-CALDESC:Events for Mulconry&#039;s Irish Pub
REFRESH-INTERVAL;VALUE=DURATION:PT1H
X-Robots-Tag:noindex
X-PUBLISHED-TTL:PT1H
BEGIN:VTIMEZONE
TZID:UTC
BEGIN:STANDARD
TZOFFSETFROM:+0000
TZOFFSETTO:+0000
TZNAME:UTC
DTSTART:20250101T000000
END:STANDARD
END:VTIMEZONE
BEGIN:VEVENT
DTSTART;TZID=UTC:20260306T200000
DTEND;TZID=UTC:20260306T230000
DTSTAMP:20260420T131834
CREATED:20260206T174327Z
LAST-MODIFIED:20260206T174327Z
UID:10000686-1772827200-1772838000@mulconrys.com
SUMMARY:Davey Allen
DESCRIPTION:
URL:https://mulconrys.com/event/davey-allen-15/
LOCATION:Greece Location\, 390 Elm Ridge Center Drive\, Greece\, NY\, 14626\, United States
CATEGORIES:Greece Events
END:VEVENT
END:VCALENDAR