BEGIN:VCALENDAR
VERSION:2.0
PRODID:-//Mulconry&#039;s Irish Pub - ECPv6.15.20//NONSGML v1.0//EN
CALSCALE:GREGORIAN
METHOD:PUBLISH
X-ORIGINAL-URL:https://mulconrys.com
X-WR-CALDESC:Events for Mulconry&#039;s Irish Pub
REFRESH-INTERVAL;VALUE=DURATION:PT1H
X-Robots-Tag:noindex
X-PUBLISHED-TTL:PT1H
BEGIN:VTIMEZONE
TZID:UTC
BEGIN:STANDARD
TZOFFSETFROM:+0000
TZOFFSETTO:+0000
TZNAME:UTC
DTSTART:20250101T000000
END:STANDARD
END:VTIMEZONE
BEGIN:VEVENT
DTSTART;TZID=UTC:20260404T200000
DTEND;TZID=UTC:20260404T230000
DTSTAMP:20260420T144146
CREATED:20260224T150033Z
LAST-MODIFIED:20260224T150225Z
UID:10000954-1775332800-1775343600@mulconrys.com
SUMMARY:Peter Ryan
DESCRIPTION:
URL:https://mulconrys.com/event/peter-ryan-4/
LOCATION:Greece Location\, 390 Elm Ridge Center Drive\, Greece\, NY\, 14626\, United States
CATEGORIES:Greece Events
END:VEVENT
END:VCALENDAR